BEGIN:VCALENDAR
CALSCALE:GREGORIAN
PRODID:iCalendar-Ruby
VERSION:2.0
BEGIN:VEVENT
DTEND:20260526T173000
DTSTAMP:20260422T115700
DTSTART:20260526T124500
CLASS:PUBLIC
LOCATION:Freie Universität Berlin\, Engler-Villa\, Altensteinstraße 2-3\, 1
 4195 Berlin
SEQUENCE:0
SUMMARY:1st DiGENet Symposium „Lehre entgrenzen/Unbounding Teaching“
UID:158192436@/www.berlin-university-alliance.de
URL:https://www.berlin-university-alliance.de/en/events/2026/260526-digenet
 -symposium.html
END:VEVENT
END:VCALENDAR
