BEGIN:VCALENDAR
CALSCALE:GREGORIAN
PRODID:iCalendar-Ruby
VERSION:2.0
BEGIN:VEVENT
DTEND:20260519T190000
DTSTAMP:20260414T103000
DTSTART:20260519T163000
CLASS:PUBLIC
LOCATION:H 1035 (Senatssaal)\, Technische Universität Berlin\, Straße des 1
 7. Juni 135\, 10623 Berlin
SEQUENCE:0
SUMMARY:17th DiGENet Dialogue with 2026 Audre Lorde Visiting Professor Eva 
 Cheng
UID:157898410@/www.berlin-university-alliance.de
URL:https://www.berlin-university-alliance.de/en/events/2026/260519-digenet
 -cheng.html
END:VEVENT
END:VCALENDAR
