BEGIN:VCALENDAR
CALSCALE:GREGORIAN
PRODID:iCalendar-Ruby
VERSION:2.0
BEGIN:VEVENT
DTEND:20260508T110000
DTSTAMP:20260416T155400
DTSTART:20260508T100000
CLASS:PUBLIC
LOCATION:https://hu-berlin.zoom-x.de/j/64691169171
SEQUENCE:0
SUMMARY:Online Information Session: X-Student Research Groups
UID:158078737@/www.berlin-university-alliance.de
URL:https://www.berlin-university-alliance.de/en/events/2026/260508-x-stude
 nt-research-groups.html
END:VEVENT
END:VCALENDAR
