BEGIN:VCALENDAR
CALSCALE:GREGORIAN
PRODID:iCalendar-Ruby
VERSION:2.0
BEGIN:VEVENT
DESCRIPTION: Electronic Laboratory Notebooks (ELNs) support FAIR data manag
 ement by enabling structured documentation of projects and experiments. The
 y replace paper-based methods by organizing data and metadata efficiently. 
 Templates and API connections ensure standardized documentation and seamles
 s data transfer between devices and analyses. 
DTEND:20260528T123000
DTSTAMP:20260414T124800
DTSTART:20260528T090000
CLASS:PUBLIC
LOCATION:online via zoom
SEQUENCE:0
SUMMARY:An introduction to electronic lab notebooks and their use
UID:157930375@/www.berlin-university-alliance.de
URL:https://www.berlin-university-alliance.de/commitments/sharing-resources
 /shared-resources-center/CARDS-FDM/cards_events/2026-05-28-eln.html
END:VEVENT
END:VCALENDAR
